BEGIN:VCALENDAR
VERSION:2.0
PRODID:-//Secret Garden - ECPv6.15.20//NONSGML v1.0//EN
CALSCALE:GREGORIAN
METHOD:PUBLISH
X-WR-CALNAME:Secret Garden
X-ORIGINAL-URL:https://secretgardencm.com
X-WR-CALDESC:Events for Secret Garden
REFRESH-INTERVAL;VALUE=DURATION:PT1H
X-Robots-Tag:noindex
X-PUBLISHED-TTL:PT1H
BEGIN:VTIMEZONE
TZID:America/Los_Angeles
BEGIN:DAYLIGHT
TZOFFSETFROM:-0800
TZOFFSETTO:-0700
TZNAME:PDT
DTSTART:20230312T100000
END:DAYLIGHT
BEGIN:STANDARD
TZOFFSETFROM:-0700
TZOFFSETTO:-0800
TZNAME:PST
DTSTART:20231105T090000
END:STANDARD
BEGIN:DAYLIGHT
TZOFFSETFROM:-0800
TZOFFSETTO:-0700
TZNAME:PDT
DTSTART:20240310T100000
END:DAYLIGHT
BEGIN:STANDARD
TZOFFSETFROM:-0700
TZOFFSETTO:-0800
TZNAME:PST
DTSTART:20241103T090000
END:STANDARD
BEGIN:DAYLIGHT
TZOFFSETFROM:-0800
TZOFFSETTO:-0700
TZNAME:PDT
DTSTART:20250309T100000
END:DAYLIGHT
BEGIN:STANDARD
TZOFFSETFROM:-0700
TZOFFSETTO:-0800
TZNAME:PST
DTSTART:20251102T090000
END:STANDARD
END:VTIMEZONE
BEGIN:VEVENT
DTSTART;TZID=America/Los_Angeles:20240427T073000
DTEND;TZID=America/Los_Angeles:20240427T120000
DTSTAMP:20260419T060311
CREATED:20240408T110743Z
LAST-MODIFIED:20240408T110755Z
UID:352-1714203000-1714219200@secretgardencm.com
SUMMARY:FOOD TRUCK: Azúcar Kartel
DESCRIPTION:
URL:https://secretgardencm.com/event/food-truck-azucar-kartel-3/
LOCATION:Secret Garden Costa Mesa\, 2664 Newport Blvd\, Costa Mesa\, California\, 92627\, United States
END:VEVENT
BEGIN:VEVENT
DTSTART;TZID=America/Los_Angeles:20240426T040000
DTEND;TZID=America/Los_Angeles:20240426T070000
DTSTAMP:20260419T060311
CREATED:20240411T021128Z
LAST-MODIFIED:20240411T021130Z
UID:384-1714104000-1714114800@secretgardencm.com
SUMMARY:Ghostpack PAD
DESCRIPTION:Stop by for a hookup on Ghostpack!
URL:https://secretgardencm.com/event/ghostpack-pad-2/
ATTACH;FMTTYPE=image/png:https://secretgardencm.com/wp-content/uploads/2024/04/GHOSTPACK_LOGOSAsset-6.png
END:VEVENT
BEGIN:VEVENT
DTSTART;TZID=America/Los_Angeles:20240420T073000
DTEND;TZID=America/Los_Angeles:20240420T120000
DTSTAMP:20260419T060311
CREATED:20240408T110403Z
LAST-MODIFIED:20240408T110428Z
UID:348-1713598200-1713614400@secretgardencm.com
SUMMARY:FOOD TRUCK: Azúcar Kartel
DESCRIPTION:
URL:https://secretgardencm.com/event/food-truck-azucar-kartel-2/
LOCATION:Secret Garden Costa Mesa\, 2664 Newport Blvd\, Costa Mesa\, California\, 92627\, United States
END:VEVENT
BEGIN:VEVENT
DTSTART;TZID=America/Los_Angeles:20240420T000000
DTEND;TZID=America/Los_Angeles:20240420T150000
DTSTAMP:20260419T060311
CREATED:20240410T145148Z
LAST-MODIFIED:20240411T023854Z
UID:373-1713571200-1713625200@secretgardencm.com
SUMMARY:DIME DAY!
DESCRIPTION:Buy one\, get one for $2 on ALL Dime vapes! ALL Day Long. \n\n\n\nWhile supplies last. Rules apply.
URL:https://secretgardencm.com/event/dime-day-2/
ATTACH;FMTTYPE=image/png:https://secretgardencm.com/wp-content/uploads/2024/04/DIME_R_LOGO_FINAL.png
END:VEVENT
BEGIN:VEVENT
DTSTART;TZID=America/Los_Angeles:20240419T050000
DTEND;TZID=America/Los_Angeles:20240419T070000
DTSTAMP:20260419T060311
CREATED:20240411T023119Z
LAST-MODIFIED:20240411T023121Z
UID:392-1713502800-1713510000@secretgardencm.com
SUMMARY:Jeeter HOOKUP Day
DESCRIPTION:Buy any Jeeter product\, get hooked up with a Mystery 1g Infused Preroll for $2.
URL:https://secretgardencm.com/event/jeeter-hookup-day/
ATTACH;FMTTYPE=image/png:https://secretgardencm.com/wp-content/uploads/2024/04/Jeeter.png
END:VEVENT
BEGIN:VEVENT
DTSTART;TZID=America/Los_Angeles:20240419T000000
DTEND;TZID=America/Los_Angeles:20240420T150000
DTSTAMP:20260419T060311
CREATED:20240408T091457Z
LAST-MODIFIED:20240415T092454Z
UID:320-1713484800-1713625200@secretgardencm.com
SUMMARY:420 Block Party
DESCRIPTION:It's our FIRST 420 Celebration and we're bringing you an UNFORGETTABLE THREE-DAY EVENT!✨\n\n\n\nJoin us for AMAZING DEALS\, BRAND DEMOS\, FOOD TRUCKS\, COMMUNITY VENDORS\, & MORE SURPRISES🤫 \n\n\n\n✨ FRIDAY\, APRIL 19TH: \n\n\n\n🌿 FLOWER FRIDAY! 20% OFF ALL FLOWER & PREROLLS 🌿 \n\n\n\n🗝 PREMIUM BRAND DEALS\, TIERED PROMO MENU\, & CONCERT TICKETS GIVEAWAY ALL DAY LONG! \n\n\n\n12PM-2PM: JEETER \n\n\n\n12PM-2PM: TURN \n\n\n\n12PM-3PM: LAX \n\n\n\n1PM-4PM: COLDFIRE \n\n\n\n4PM-6PM: HAPPY FRUIT \n\n\n\n4PM-7PM: EL BLUNTO ROLLING BAR✨ \n\n\n\n4PM-7PM: CBX \n\n\n\n4PM-7PM: SAUCE \n\n\n\n \n\n\n\n🌿 SATURDAY\, APRIL 20TH: \n\n\n\n🎡 SPIN THE WHEEL SATURDAY! SPEND $65 TO SPIN & WIN 🎡 \n\n\n\n🗝 PREMIUM BRAND DEALS\, TIERED PROMO MENU\, & CONCERT TICKETS GIVEAWAY ALL DAY LONG! \n\n\n\n⭐️ ROCKSTAR 420 BUS: 11AM-2PM ✨\n\n\n\n*SPEND $100 OR PURCHASE ROCKSTAR PRODUCTS TO BOARD \n\n\n\n☮️ IRATION MINI EVENT: 3PM-4:30PM ✨\n\n\n\nMEET ADAM TAYLOR\, MICAH BROWN\, & JOE DICKENS FROM IRATION \n\n\n\n*SHOP THEIR NEW FLOWER LINE COLLAB WITH AUTUMN BRANDS \n\n\n\n*EXCLUSIVE MERCH FOR FIRST CUSTOMERS \n\n\n\n*SHOP AUTUMN BRANDS ALL WEEKEND LONG AND YOU MAY WIN 2 TICKETS TO SEE IRATION IN AUGUST AT THE PACIFIC AMPHITHEATRE. TWO SETS OF TICKETS AVAILABLE! \n\n\n\n🍦 BROUGHT TO YOU BY GELATO: \n\n\n\n10AM: YOGA WITH @JASMINE-PUENTES 🧘‍♀️ \n\n\n\n2PM: SOUND BATH WITH @DENNISMATAVIESKO 🎶 \n\n\n\n2PM-6PM: EVOLVE VEGAN BAKERY 🧁 \n\n\n\n2:30PM-7PM: AZUCAR KARTEL DESSERTS 🍇 \n\n\n\n4PM-7PM: HAPPYCRAFTYHIPPIE CANDLES 🕯 \n\n\n\n🌿 SUNDAY\, APRIL 21ST: \n\n\n\n🙌 PICK YOUR PROMO SUNDAY! SPEND $100 AND PICK ANY OF OUR DAILY DEALS 🙌 \n\n\n\n🗝 PREMIUM BRAND DEALS\, TIERED PROMO MENU\, & CONCERT TICKETS GIVEAWAY ALL DAY LONG!
URL:https://secretgardencm.com/event/420-block-party/
ATTACH;FMTTYPE=image/png:https://secretgardencm.com/wp-content/uploads/2024/04/420BLOCKPARTY_WEB_LOGOArtboard-15.png
END:VEVENT
BEGIN:VEVENT
DTSTART;TZID=America/Los_Angeles:20240418T080000
DTEND;TZID=America/Los_Angeles:20240418T120000
DTSTAMP:20260419T060311
CREATED:20240411T022847Z
LAST-MODIFIED:20240411T022848Z
UID:389-1713427200-1713441600@secretgardencm.com
SUMMARY:PUFF Prerolls PAD
DESCRIPTION:Stop by for a hookup on PUFF prerolls!
URL:https://secretgardencm.com/event/puff-prerolls-pad/
ATTACH;FMTTYPE=image/png:https://secretgardencm.com/wp-content/uploads/2024/04/PUFFprerolls_LOGOAsset-5.png
END:VEVENT
BEGIN:VEVENT
DTSTART;TZID=America/Los_Angeles:20240418T020000
DTEND;TZID=America/Los_Angeles:20240418T050000
DTSTAMP:20260419T060311
CREATED:20240411T021423Z
LAST-MODIFIED:20240411T021426Z
UID:386-1713405600-1713416400@secretgardencm.com
SUMMARY:Sauce PAD
DESCRIPTION:Buy any Sauce disposable vape\, get a Sauce Essentials Live resin disposable vape for $2. Buy any Sauce Bursts or Chews edibles\, get 100mg Sauce Bursts for $2.
URL:https://secretgardencm.com/event/sauce-pad/
ATTACH;FMTTYPE=image/png:https://secretgardencm.com/wp-content/uploads/2024/04/Sauce_Logo_2022_S-Icon_Black.png
END:VEVENT
BEGIN:VEVENT
DTSTART;TZID=America/Los_Angeles:20240415T090000
DTEND;TZID=America/Los_Angeles:20240415T120000
DTSTAMP:20260419T060311
CREATED:20240408T105430Z
LAST-MODIFIED:20240412T043632Z
UID:334-1713171600-1713182400@secretgardencm.com
SUMMARY:Space Gem PAD
DESCRIPTION:
URL:https://secretgardencm.com/event/space-gem-pad/
LOCATION:Secret Garden Costa Mesa\, 2664 Newport Blvd\, Costa Mesa\, California\, 92627\, United States
END:VEVENT
BEGIN:VEVENT
DTSTART;TZID=America/Los_Angeles:20240413T090000
DTEND;TZID=America/Los_Angeles:20240413T120000
DTSTAMP:20260419T060311
CREATED:20240411T020959Z
LAST-MODIFIED:20240412T044118Z
UID:381-1712998800-1713009600@secretgardencm.com
SUMMARY:Ghostpack PAD
DESCRIPTION:Stop by for a hookup on Ghostpack!
URL:https://secretgardencm.com/event/ghostpack-pad/
ATTACH;FMTTYPE=image/png:https://secretgardencm.com/wp-content/uploads/2024/04/GHOSTPACK_LOGOSAsset-6.png
END:VEVENT
BEGIN:VEVENT
DTSTART;TZID=America/Los_Angeles:20240413T000000
DTEND;TZID=America/Los_Angeles:20240413T150000
DTSTAMP:20260419T060311
CREATED:20240411T023429Z
LAST-MODIFIED:20240411T042518Z
UID:395-1712966400-1713020400@secretgardencm.com
SUMMARY:Jeeter Baked Sale
DESCRIPTION:25% off all infused Jeeter products! The FIRST 10 CUSTOMERS to spend $100 on Jeeter products will receive Limited Edition Clouded apparel with their purchase! *Does not include vape cartridges or disposables \n\n\n\nIncludes: Side Bag + Socks + Ashtray
URL:https://secretgardencm.com/event/jeeter-baked-sale/
ATTACH;FMTTYPE=image/png:https://secretgardencm.com/wp-content/uploads/2024/04/Jeeter.png
END:VEVENT
BEGIN:VEVENT
DTSTART;TZID=America/Los_Angeles:20240411T010000
DTEND;TZID=America/Los_Angeles:20240411T100000
DTSTAMP:20260419T060311
CREATED:20240412T090711Z
LAST-MODIFIED:20240412T091617Z
UID:402-1712797200-1712829600@secretgardencm.com
SUMMARY:GUEST EVENT: GENTLE YOGA with Jasmine
DESCRIPTION:A 1-hour gentle flow to unwind\, reset\, and start the week off right. Class will be held on second floor. Contact organizer for more details. \n\n\n\nORGANIZER: @jasminepuentes
URL:https://secretgardencm.com/event/guest-event-gentle-yoga-with-jasmine/
END:VEVENT
BEGIN:VEVENT
DTSTART;TZID=America/Los_Angeles:20240410T000000
DTEND;TZID=America/Los_Angeles:20240410T150000
DTSTAMP:20260419T060311
CREATED:20240410T144651Z
LAST-MODIFIED:20240411T023938Z
UID:368-1712707200-1712761200@secretgardencm.com
SUMMARY:DIME DAY!
DESCRIPTION:Buy one\, get one for $2 on ALL Dime vapes! ALL Day Long.  \n\n\n\nWhile supplies last. Rules apply.
URL:https://secretgardencm.com/event/dime-day/
ATTACH;FMTTYPE=image/png:https://secretgardencm.com/wp-content/uploads/2024/04/DIME_R_LOGO_FINAL.png
END:VEVENT
END:VCALENDAR