BEGIN:VCALENDAR
VERSION:2.0
PRODID:-//Secret Garden - ECPv6.15.20//NONSGML v1.0//EN
CALSCALE:GREGORIAN
METHOD:PUBLISH
X-WR-CALNAME:Secret Garden
X-ORIGINAL-URL:https://secretgardencm.com
X-WR-CALDESC:Events for Secret Garden
REFRESH-INTERVAL;VALUE=DURATION:PT1H
X-Robots-Tag:noindex
X-PUBLISHED-TTL:PT1H
BEGIN:VTIMEZONE
TZID:America/Los_Angeles
BEGIN:DAYLIGHT
TZOFFSETFROM:-0800
TZOFFSETTO:-0700
TZNAME:PDT
DTSTART:20230312T100000
END:DAYLIGHT
BEGIN:STANDARD
TZOFFSETFROM:-0700
TZOFFSETTO:-0800
TZNAME:PST
DTSTART:20231105T090000
END:STANDARD
BEGIN:DAYLIGHT
TZOFFSETFROM:-0800
TZOFFSETTO:-0700
TZNAME:PDT
DTSTART:20240310T100000
END:DAYLIGHT
BEGIN:STANDARD
TZOFFSETFROM:-0700
TZOFFSETTO:-0800
TZNAME:PST
DTSTART:20241103T090000
END:STANDARD
BEGIN:DAYLIGHT
TZOFFSETFROM:-0800
TZOFFSETTO:-0700
TZNAME:PDT
DTSTART:20250309T100000
END:DAYLIGHT
BEGIN:STANDARD
TZOFFSETFROM:-0700
TZOFFSETTO:-0800
TZNAME:PST
DTSTART:20251102T090000
END:STANDARD
END:VTIMEZONE
BEGIN:VEVENT
DTSTART;TZID=America/Los_Angeles:20240410T000000
DTEND;TZID=America/Los_Angeles:20240410T150000
DTSTAMP:20260419T074455
CREATED:20240410T144651Z
LAST-MODIFIED:20240411T023938Z
UID:368-1712707200-1712761200@secretgardencm.com
SUMMARY:DIME DAY!
DESCRIPTION:Buy one\, get one for $2 on ALL Dime vapes! ALL Day Long.  \n\n\n\nWhile supplies last. Rules apply.
URL:https://secretgardencm.com/event/dime-day/
ATTACH;FMTTYPE=image/png:https://secretgardencm.com/wp-content/uploads/2024/04/DIME_R_LOGO_FINAL.png
END:VEVENT
END:VCALENDAR